{
 "currentVersion": 10.91,
 "serviceDescription": "Aerials/Aerial1964",
 "name": "Aerials/Aerial1964",
 "description": "",
 "extent": {
  "xmin": 479288.13038930297,
  "ymin": 1679999.9207346886,
  "xmax": 715001.130389303,
  "ymax": 1885199.9207346886,
  "spatialReference": {
   "wkid": 102659,
   "latestWkid": 2237
  }
 },
 "initialExtent": {
  "xmin": 479288.13038930297,
  "ymin": 1679999.9207346886,
  "xmax": 715001.130389303,
  "ymax": 1885199.9207346886,
  "spatialReference": {
   "wkid": 102659,
   "latestWkid": 2237
  }
 },
 "fullExtent": {
  "xmin": 479288.13038930297,
  "ymin": 1679999.9207346886,
  "xmax": 715001.130389303,
  "ymax": 1885199.9207346886,
  "spatialReference": {
   "wkid": 102659,
   "latestWkid": 2237
  }
 },
 "hasMultidimensions": false,
 "pixelSizeX": 1,
 "pixelSizeY": 1,
 "datasetFormat": "FGDBR",
 "uncompressedSize": 48368307600,
 "blockWidth": 128,
 "blockHeight": 128,
 "compressionType": "LZ77",
 "bandNames": [
  "Band_1"
 ],
 "allowCopy": true,
 "allowAnalysis": true,
 "bandCount": 1,
 "pixelType": "U8",
 "minPixelSize": 0,
 "maxPixelSize": 0,
 "copyrightText": "",
 "serviceDataType": "esriImageServiceDataTypeGeneric",
 "serviceSourceType": "esriImageServiceSourceTypeDataset",
 "minValues": [
  0
 ],
 "maxValues": [
  255
 ],
 "meanValues": [
  113.08365585125557
 ],
 "stdvValues": [
  43.01514752648949
 ],
 "objectIdField": "",
 "fields": [],
 "capabilities": "Mensuration,Image,Metadata",
 "defaultMosaicMethod": "Center",
 "allowedMosaicMethods": "",
 "sortField": "",
 "sortValue": null,
 "sortAscending": true,
 "mosaicOperator": "First",
 "defaultCompressionQuality": 75,
 "defaultResamplingMethod": "Bilinear",
 "maxImageHeight": 4100,
 "maxImageWidth": 15000,
 "allowRasterFunction": true,
 "rasterFunctionInfos": [
  {
   "name": "None",
   "description": "",
   "help": ""
  }
 ],
 "rasterTypeInfos": [
  {
   "name": "Raster Dataset",
   "description": "Supports all ArcGIS Raster Datasets",
   "help": ""
  }
 ],
 "mensurationCapabilities": "Basic",
 "hasHistograms": true,
 "hasColormap": false,
 "hasRasterAttributeTable": true,
 "minScale": 0,
 "maxScale": 0,
 "exportTilesAllowed": false,
 "supportsStatistics": false,
 "supportsAdvancedQueries": false,
 "editFieldsInfo": null,
 "ownershipBasedAccessControlForRasters": null,
 "allowComputeTiePoints": false,
 "useStandardizedQueries": true,
 "advancedQueryCapabilities": {
  "useStandardizedQueries": true,
  "supportsStatistics": false,
  "supportsOrderBy": false,
  "supportsDistinct": false,
  "supportsPagination": false
 },
 "spatialReference": {
  "wkid": 102659,
  "latestWkid": 2237
 }
}
