{
 "currentVersion": 10.91,
 "serviceDescription": "Aerials/Aerial2026",
 "name": "Aerials/Aerial2026",
 "description": "",
 "extent": {
  "xmin": 485000,
  "ymin": 1680000,
  "xmax": 775000,
  "ymax": 1890000,
  "spatialReference": {
   "wkid": 103023,
   "latestWkid": 6443
  }
 },
 "initialExtent": {
  "xmin": 485000,
  "ymin": 1680000,
  "xmax": 775000,
  "ymax": 1890000,
  "spatialReference": {
   "wkid": 103023,
   "latestWkid": 6443
  }
 },
 "fullExtent": {
  "xmin": 485000,
  "ymin": 1680000,
  "xmax": 775000,
  "ymax": 1890000,
  "spatialReference": {
   "wkid": 103023,
   "latestWkid": 6443
  }
 },
 "hasMultidimensions": false,
 "pixelSizeX": 0.5,
 "pixelSizeY": 0.5,
 "datasetFormat": "MrSID",
 "uncompressedSize": 730800000000,
 "blockWidth": 1024,
 "blockHeight": 128,
 "compressionType": "Wavelet (MG3)",
 "bandNames": [
  "Band_1",
  "Band_2",
  "Band_3"
 ],
 "allowCopy": true,
 "allowAnalysis": true,
 "bandCount": 3,
 "pixelType": "U8",
 "minPixelSize": 0,
 "maxPixelSize": 0,
 "copyrightText": "",
 "serviceDataType": "esriImageServiceDataTypeProcessed",
 "serviceSourceType": "esriImageServiceSourceTypeDataset",
 "minValues": [
  3,
  40,
  40
 ],
 "maxValues": [
  255,
  255,
  255
 ],
 "meanValues": [
  138.35861321777,
  139.86998916576,
  126.68634886241
 ],
 "stdvValues": [
  61.601138103352,
  59.560182867473,
  65.610221685302
 ],
 "objectIdField": "",
 "fields": [],
 "capabilities": "Image,Metadata,Mensuration",
 "defaultMosaicMethod": "Center",
 "allowedMosaicMethods": "",
 "sortField": "",
 "sortValue": null,
 "sortAscending": true,
 "mosaicOperator": "First",
 "defaultCompressionQuality": 75,
 "defaultResamplingMethod": "Bilinear",
 "maxImageHeight": 4100,
 "maxImageWidth": 15000,
 "allowRasterFunction": true,
 "rasterFunctionInfos": [
  {
   "name": "None",
   "description": "",
   "help": ""
  }
 ],
 "rasterTypeInfos": [
  {
   "name": "Raster Dataset",
   "description": "Supports all ArcGIS Raster Datasets",
   "help": ""
  }
 ],
 "mensurationCapabilities": "Basic",
 "hasHistograms": true,
 "hasColormap": false,
 "hasRasterAttributeTable": false,
 "minScale": 0,
 "maxScale": 0,
 "exportTilesAllowed": false,
 "supportsStatistics": false,
 "supportsAdvancedQueries": false,
 "editFieldsInfo": null,
 "ownershipBasedAccessControlForRasters": null,
 "allowComputeTiePoints": false,
 "useStandardizedQueries": true,
 "advancedQueryCapabilities": {
  "useStandardizedQueries": true,
  "supportsStatistics": false,
  "supportsOrderBy": false,
  "supportsDistinct": false,
  "supportsPagination": false
 },
 "spatialReference": {
  "wkid": 103023,
  "latestWkid": 6443
 }
}
