View In:
ArcGIS JavaScript
ArcGIS Online Map Viewer
ArcGIS Earth
ArcMap
View Footprint In:
ArcGIS Online Map Viewer
Service Description: Basemaps/Aerials2010_ImageService
Name: Aerials/Aerials2010
Description: Basemaps/Aerials2010_ImageService
Single Fused Map Cache: false
Extent:
XMin: 480000.0981640741
YMin: 1679999.9854995757
XMax: 775000.0981640741
YMax: 1889999.9854995757
Spatial Reference: 102659
(2237)
LatestVCSWkid(0)
Initial Extent:
XMin: 480000.0981640741
YMin: 1679999.9854995757
XMax: 775000.0981640741
YMax: 1889999.9854995757
Spatial Reference: 102659
(2237)
LatestVCSWkid(0)
Full Extent:
XMin: 480000.0981640741
YMin: 1679999.9854995757
XMax: 775000.0981640741
YMax: 1889999.9854995757
Spatial Reference: 102659
(2237)
LatestVCSWkid(0)
Pixel Size X: 1.0
Pixel Size Y: 1.0
Band Count: 3
Pixel Type: U8
RasterFunction Infos: {"rasterFunctionInfos": [{
"name": "None",
"description": "",
"help": ""
}]}
Mensuration Capabilities: Basic
Has Histograms: true
Has Colormap: false
Has Multi Dimensions : false
Rendering Rule:
Min Scale: 0
Max Scale: 0
Copyright Text:
Service Data Type: esriImageServiceDataTypeRGB
Min Values: 0, 0, 0
Max Values: 255, 255, 255
Mean Values: 63.55091274286003, 78.12510874500252, 76.93063378259727
Standard Deviation Values: 56.74653352273029, 53.484629612640774, 46.7419133694035
Object ID Field:
Fields:
None
Default Mosaic Method: Center
Allowed Mosaic Methods:
SortField:
SortValue: null
Mosaic Operator: First
Default Compression Quality: 75
Default Resampling Method: Bilinear
Max Record Count: null
Max Image Height: 4100
Max Image Width: 15000
Max Download Image Count: null
Max Mosaic Image Count: null
Allow Raster Function: true
Allow Copy: true
Allow Analysis: true
Allow Compute TiePoints: false
Supports Statistics: false
Supports Advanced Queries: false
Use StandardizedQueries: true
Raster Type Infos:
Name: Raster Dataset
Description: Supports all ArcGIS Raster Datasets
Help:
Has Raster Attribute Table: false
Edit Fields Info: null
Ownership Based AccessControl For Rasters: null
Child Resources:
Info
Histograms
Statistics
Key Properties
Legend
Raster Function Infos
Supported Operations:
Export Image
Identify
Measure
Compute Histograms
Compute Statistics Histograms
Get Samples
Compute Class Statistics
Query Boundary
Compute Pixel Location
Compute Angles
Validate
Project