View In:
ArcGIS JavaScript
ArcGIS Online Map Viewer
ArcGIS Earth
ArcMap
View Footprint In:
ArcGIS Online Map Viewer
Service Description: Digital Aerial Photography for Marion County, FL. Dates taken 12/29/2020 - 2/27/2021. Taken by Pictometry Int and obtained from FDOT. FDOT contact: Nichole Mittness, nichole.mittness@dot.state.fl.us, 850-414-4265.
Name: Aerials/Aerials_2021
Description: Digital Aerial Photography for Marion County, FL. Dates taken 12/29/2020 - 2/27/2021. Taken by Pictometry Int and obtained from FDOT. FDOT contact: Nichole Mittness, nichole.mittness@dot.state.fl.us, 850-414-4265.
Single Fused Map Cache: false
Extent:
XMin: 484999.99982032925
YMin: 1679999.9989077454
XMax: 774999.9998203259
YMax: 1889999.9989077428
Spatial Reference: 102659
(2237)
LatestVCSWkid(0)
Initial Extent:
XMin: 484999.99982032925
YMin: 1679999.9989077454
XMax: 774999.9998203259
YMax: 1889999.9989077428
Spatial Reference: 102659
(2237)
LatestVCSWkid(0)
Full Extent:
XMin: 484999.99982032925
YMin: 1679999.9989077454
XMax: 774999.9998203259
YMax: 1889999.9989077428
Spatial Reference: 102659
(2237)
LatestVCSWkid(0)
Pixel Size X: 0.49999999999999417
Pixel Size Y: 0.4999999999999939
Band Count: 3
Pixel Type: U8
RasterFunction Infos: {"rasterFunctionInfos": [{
"name": "None",
"description": "",
"help": ""
}]}
Mensuration Capabilities: None
Has Histograms: true
Has Colormap: false
Has Multi Dimensions : false
Rendering Rule:
Min Scale: 0
Max Scale: 0
Copyright Text: FDOT
Service Data Type: esriImageServiceDataTypeRGB
Min Values: 0, 0, 13
Max Values: 255, 255, 255
Mean Values: 119.93910985743852, 116.24789626206551, 99.70406008972678
Standard Deviation Values: 38.52614000521355, 29.6141489507686, 23.84047063023325
Object ID Field: OBJECTID
Fields:
-
OBJECTID
(
type: esriFieldTypeOID, alias: OBJECTID
)
-
Shape
(
type: esriFieldTypeGeometry, alias: Shape
)
-
Name
(
type: esriFieldTypeString, alias: Name, length: 200
)
-
MinPS
(
type: esriFieldTypeDouble, alias: MinPS
)
-
MaxPS
(
type: esriFieldTypeDouble, alias: MaxPS
)
-
LowPS
(
type: esriFieldTypeDouble, alias: LowPS
)
-
HighPS
(
type: esriFieldTypeDouble, alias: HighPS
)
-
Category
(
type: esriFieldTypeInteger, alias: Category
, Coded Values:
[0: Unknown]
, [1: Primary]
, [2: Overview]
, ...6 more...
)
-
Tag
(
type: esriFieldTypeString, alias: Tag, length: 100
)
-
GroupName
(
type: esriFieldTypeString, alias: GroupName, length: 100
)
-
ProductName
(
type: esriFieldTypeString, alias: ProductName, length: 100
)
-
CenterX
(
type: esriFieldTypeDouble, alias: CenterX
)
-
CenterY
(
type: esriFieldTypeDouble, alias: CenterY
)
-
ZOrder
(
type: esriFieldTypeInteger, alias: ZOrder
)
-
Shape_Length
(
type: esriFieldTypeDouble, alias: Shape_Length
)
-
Shape_Area
(
type: esriFieldTypeDouble, alias: Shape_Area
)
Default Mosaic Method: Northwest
Allowed Mosaic Methods: NorthWest,Center,LockRaster,ByAttribute,Nadir,Viewpoint,Seamline,None
SortField:
SortValue: null
Mosaic Operator: First
Default Compression Quality: 75
Default Resampling Method: Bilinear
Max Record Count: 1000
Max Image Height: 4100
Max Image Width: 15000
Max Download Image Count: 20
Max Mosaic Image Count: 20
Allow Raster Function: true
Allow Copy: true
Allow Analysis: true
Allow Compute TiePoints: false
Supports Statistics: true
Supports Advanced Queries: true
Use StandardizedQueries: true
Raster Type Infos:
Name: Raster Dataset
Description: Supports all ArcGIS Raster Datasets
Help:
Has Raster Attribute Table: false
Edit Fields Info: null
Ownership Based AccessControl For Rasters: null
Child Resources:
Info
Histograms
Statistics
Key Properties
Legend
Raster Function Infos
Supported Operations:
Export Image
Identify
Measure
Compute Histograms
Compute Statistics Histograms
Get Samples
Compute Class Statistics
Query Boundary
Compute Pixel Location
Compute Angles
Validate
Project