View In:
ArcGIS JavaScript
ArcGIS Online Map Viewer
ArcGIS Earth
ArcMap
View Footprint In:
ArcGIS Online Map Viewer
Service Description: Aerials/Aerial2026
Name: Aerials/Aerial2026
Description:
Single Fused Map Cache: false
Extent:
XMin: 485000.0
YMin: 1680000.0
XMax: 775000.0
YMax: 1890000.0
Spatial Reference: 103023
(6443)
LatestVCSWkid(0)
Initial Extent:
XMin: 485000.0
YMin: 1680000.0
XMax: 775000.0
YMax: 1890000.0
Spatial Reference: 103023
(6443)
LatestVCSWkid(0)
Full Extent:
XMin: 485000.0
YMin: 1680000.0
XMax: 775000.0
YMax: 1890000.0
Spatial Reference: 103023
(6443)
LatestVCSWkid(0)
Pixel Size X: 0.5
Pixel Size Y: 0.5
Band Count: 3
Pixel Type: U8
RasterFunction Infos: {"rasterFunctionInfos": [{
"name": "None",
"description": "",
"help": ""
}]}
Mensuration Capabilities: Basic
Has Histograms: true
Has Colormap: false
Has Multi Dimensions : false
Rendering Rule:
Min Scale: 0
Max Scale: 0
Copyright Text:
Service Data Type: esriImageServiceDataTypeProcessed
Min Values: 3, 40, 40
Max Values: 255, 255, 255
Mean Values: 138.35861321777, 139.86998916576, 126.68634886241
Standard Deviation Values: 61.601138103352, 59.560182867473, 65.610221685302
Object ID Field:
Fields:
None
Default Mosaic Method: Center
Allowed Mosaic Methods:
SortField:
SortValue: null
Mosaic Operator: First
Default Compression Quality: 75
Default Resampling Method: Bilinear
Max Record Count: null
Max Image Height: 4100
Max Image Width: 15000
Max Download Image Count: null
Max Mosaic Image Count: null
Allow Raster Function: true
Allow Copy: true
Allow Analysis: true
Allow Compute TiePoints: false
Supports Statistics: false
Supports Advanced Queries: false
Use StandardizedQueries: true
Raster Type Infos:
Name: Raster Dataset
Description: Supports all ArcGIS Raster Datasets
Help:
Has Raster Attribute Table: false
Edit Fields Info: null
Ownership Based AccessControl For Rasters: null
Child Resources:
Info
Histograms
Statistics
Key Properties
Legend
Raster Function Infos
Supported Operations:
Export Image
Identify
Measure
Compute Histograms
Compute Statistics Histograms
Get Samples
Compute Class Statistics
Query Boundary
Compute Pixel Location
Compute Angles
Validate
Project